BEGIN:VCALENDAR
VERSION:2.0
PRODID:-//Tehaleh Resident Website - ECPv6.15.20//NONSGML v1.0//EN
CALSCALE:GREGORIAN
METHOD:PUBLISH
X-WR-CALNAME:Tehaleh Resident Website
X-ORIGINAL-URL:https://tehalehresidents.com
X-WR-CALDESC:Events for Tehaleh Resident Website
REFRESH-INTERVAL;VALUE=DURATION:PT1H
X-Robots-Tag:noindex
X-PUBLISHED-TTL:PT1H
BEGIN:VTIMEZONE
TZID:America/Los_Angeles
BEGIN:DAYLIGHT
TZOFFSETFROM:-0800
TZOFFSETTO:-0700
TZNAME:PDT
DTSTART:20250309T100000
END:DAYLIGHT
BEGIN:STANDARD
TZOFFSETFROM:-0700
TZOFFSETTO:-0800
TZNAME:PST
DTSTART:20251102T090000
END:STANDARD
BEGIN:DAYLIGHT
TZOFFSETFROM:-0800
TZOFFSETTO:-0700
TZNAME:PDT
DTSTART:20260308T100000
END:DAYLIGHT
BEGIN:STANDARD
TZOFFSETFROM:-0700
TZOFFSETTO:-0800
TZNAME:PST
DTSTART:20261101T090000
END:STANDARD
BEGIN:DAYLIGHT
TZOFFSETFROM:-0800
TZOFFSETTO:-0700
TZNAME:PDT
DTSTART:20270314T100000
END:DAYLIGHT
BEGIN:STANDARD
TZOFFSETFROM:-0700
TZOFFSETTO:-0800
TZNAME:PST
DTSTART:20271107T090000
END:STANDARD
END:VTIMEZONE
BEGIN:VEVENT
DTSTART;TZID=America/Los_Angeles:20260427T160000
DTEND;TZID=America/Los_Angeles:20260427T180000
DTSTAMP:20260422T032825
CREATED:20260319T170402Z
LAST-MODIFIED:20260319T170402Z
UID:10000342-1777305600-1777312800@tehalehresidents.com
SUMMARY:Club Meetup: Silver Sisters
DESCRIPTION:We are a group of senior women (50+) who don’t live in Trilogy or Verterra who want to meet new people in the neighborhood\, establishing new friendships while participating in social activities. Club leader information can be found here.
URL:https://tehalehresidents.com/event/club-meetup-silver-sisters-3/
LOCATION:Discovery Park Community Center
END:VEVENT
END:VCALENDAR